BEGIN:VCALENDAR
VERSION:2.0
PRODID:-//SPÖ Zwettl an der Rodl - ECPv6.15.20//NONSGML v1.0//EN
CALSCALE:GREGORIAN
METHOD:PUBLISH
X-ORIGINAL-URL:https://zwettl.spooe.at
X-WR-CALDESC:Veranstaltungen für SPÖ Zwettl an der Rodl
REFRESH-INTERVAL;VALUE=DURATION:PT1H
X-Robots-Tag:noindex
X-PUBLISHED-TTL:PT1H
BEGIN:VTIMEZONE
TZID:Europe/Vienna
BEGIN:DAYLIGHT
TZOFFSETFROM:+0100
TZOFFSETTO:+0200
TZNAME:CEST
DTSTART:20250330T010000
END:DAYLIGHT
BEGIN:STANDARD
TZOFFSETFROM:+0200
TZOFFSETTO:+0100
TZNAME:CET
DTSTART:20251026T010000
END:STANDARD
BEGIN:DAYLIGHT
TZOFFSETFROM:+0100
TZOFFSETTO:+0200
TZNAME:CEST
DTSTART:20260329T010000
END:DAYLIGHT
BEGIN:STANDARD
TZOFFSETFROM:+0200
TZOFFSETTO:+0100
TZNAME:CET
DTSTART:20261025T010000
END:STANDARD
BEGIN:DAYLIGHT
TZOFFSETFROM:+0100
TZOFFSETTO:+0200
TZNAME:CEST
DTSTART:20270328T010000
END:DAYLIGHT
BEGIN:STANDARD
TZOFFSETFROM:+0200
TZOFFSETTO:+0100
TZNAME:CET
DTSTART:20271031T010000
END:STANDARD
END:VTIMEZONE
BEGIN:VEVENT
DTSTART;TZID=Europe/Vienna:20261205T170000
DTEND;TZID=Europe/Vienna:20261205T180000
DTSTAMP:20260425T185454
CREATED:20251229T060624Z
LAST-MODIFIED:20251229T071214Z
UID:4542-1796490000-1796493600@zwettl.spooe.at
SUMMARY:Der Nikolaus kommt!
DESCRIPTION:Wir treffen uns um 17:00 Uhr vor dem Bienenmuseum\, es gibt für jedes Kind ein Nikolaussackerl. Wie jedes Jahr gibt’s für alle Kinder zuerst eine Geschichte und dann ein Nikolo-Sackerl.\nNatürlich gibt es Punsch sowohl für die Großen als auch die Kleinen auch heuer wieder bei stimmungsvollen Lagerfeuer im Fackelschein vor dem Bienenmuseum!Kommen sie doch auf einen wärmenden Punsch vorbei!
URL:https://zwettl.spooe.at/termin/der-nikolaus-kommt-3/
LOCATION:Bienenmuseum\, Obermühlweg 2\, Zwettl an der Rodl\, 4180\, Österreich
ATTACH;FMTTYPE=image/jpeg:https://zwettl.spooe.at/wp-content/uploads/sites/166/2023/11/Nikolaus.jpg
END:VEVENT
BEGIN:VEVENT
DTSTART;TZID=Europe/Vienna:20261209T180000
DTEND;TZID=Europe/Vienna:20261209T190000
DTSTAMP:20260425T185454
CREATED:20250127T085345Z
LAST-MODIFIED:20251229T072853Z
UID:4638-1796839200-1796842800@zwettl.spooe.at
SUMMARY:Klar geht das - Reden wir darüber!
DESCRIPTION:Wir stehen Ihnen bei unseren Sprechstunden für ihre ganz persönlichen Anliegen zur Verfügung. Wir freuen uns auf Ihren persönlichen Besuch\, in der dieser Stunde sind wir auch telefonisch bzw. online für Ihre Anliegen erreichbar.\nUnsere Sprechstunden finden jeden zweiten Mittwoch im Monat stattfinden.
URL:https://zwettl.spooe.at/termin/klar-geht-das-reden-wir-darueber-19/
LOCATION:Marktgemeindeamt Zwettl\, Marktplatz\, Zwettl an der Rodl\, 4180\, Österreich
ATTACH;FMTTYPE=image/jpeg:https://zwettl.spooe.at/wp-content/uploads/sites/166/2022/10/Sprechstunde-scaled.jpeg
END:VEVENT
END:VCALENDAR