BEGIN:VCALENDAR
VERSION:2.0
PRODID:-//SPÖ Zwettl an der Rodl - ECPv6.15.20//NONSGML v1.0//EN
CALSCALE:GREGORIAN
METHOD:PUBLISH
X-WR-CALNAME:SPÖ Zwettl an der Rodl
X-ORIGINAL-URL:https://zwettl.spooe.at
X-WR-CALDESC:Veranstaltungen für SPÖ Zwettl an der Rodl
REFRESH-INTERVAL;VALUE=DURATION:PT1H
X-Robots-Tag:noindex
X-PUBLISHED-TTL:PT1H
BEGIN:VTIMEZONE
TZID:Europe/Vienna
BEGIN:DAYLIGHT
TZOFFSETFROM:+0100
TZOFFSETTO:+0200
TZNAME:CEST
DTSTART:20240331T010000
END:DAYLIGHT
BEGIN:STANDARD
TZOFFSETFROM:+0200
TZOFFSETTO:+0100
TZNAME:CET
DTSTART:20241027T010000
END:STANDARD
BEGIN:DAYLIGHT
TZOFFSETFROM:+0100
TZOFFSETTO:+0200
TZNAME:CEST
DTSTART:20250330T010000
END:DAYLIGHT
BEGIN:STANDARD
TZOFFSETFROM:+0200
TZOFFSETTO:+0100
TZNAME:CET
DTSTART:20251026T010000
END:STANDARD
BEGIN:DAYLIGHT
TZOFFSETFROM:+0100
TZOFFSETTO:+0200
TZNAME:CEST
DTSTART:20260329T010000
END:DAYLIGHT
BEGIN:STANDARD
TZOFFSETFROM:+0200
TZOFFSETTO:+0100
TZNAME:CET
DTSTART:20261025T010000
END:STANDARD
END:VTIMEZONE
BEGIN:VEVENT
DTSTART;TZID=Europe/Vienna:20250812T190000
DTEND;TZID=Europe/Vienna:20250812T210000
DTSTAMP:20260425T160616
CREATED:20250726T083940Z
LAST-MODIFIED:20250726T083940Z
UID:4839-1755025200-1755032400@zwettl.spooe.at
SUMMARY:Zwettler Sommergespräch 2025
DESCRIPTION:am Dienstag\, dem 12. August 2025\, um 19:00 Uhr ist es wieder so weit: Wir laden herzlich zu unserem traditionellen Zwettler Sommergespräch ein. In diesem Jahr steht der Abend nicht zufällig unter dem Motto „Mehr Energie für Oberösterreich“.\n\nBesonders freut es uns\, dass der neue Landesrat Martin Winkler seine Teilnahme zugesagt hat. Schon in seiner Antrittsrede machte er deutlich\, dass Oberösterreich vor großen Herausforderungen steht. Als führendes Industriebundesland sei es entscheidend\, die Energiepreise zu senken\, um die Produktions- und Dienstleistungskosten zu reduzieren. Er betonte\, dass das Leben spürbar leistbarer werden müsse\, um den Wirtschaftsstandort zu sichern und den Sozialstaat nachhaltig aufrechtzuerhalten – darum rief er zu einem parteiübergreifenden Schulterschluss auf\, um gemeinsam entschlossen zu handeln.\n\nDas Zwettler Sommergespräch bietet Ihnen die besondere Gelegenheit\, mit Martin Winkler persönlich ins Gespräch zu kommen. Wie in den vergangenen Jahren soll es keine Diskussion auf Expertenebene sein\, sondern ein offener Austausch\, bei dem Ihre Fragen\, Anliegen und Ideen im Mittelpunkt stehen. Anders als bei vielen medialen Sommergesprächen haben Sie hier die Möglichkeit\, wirklich mitzudiskutieren.\nDie Veranstaltung findet wie gewohnt im stimmungsvollen Gastgarten des Platzhirsch statt – ein idealer Rahmen für einen anregenden Sommerabend in entspannter Atmosphäre. Wir freuen uns auf Ihr Kommen und auf einen lebendigen Dialog mit Ihnen.
URL:https://zwettl.spooe.at/termin/zwettler-sommergespraech-2025/
LOCATION:Platzhirsch\, Marktplatz 8\, Zwettl an der Rodl\, 4180\, Österreich
ATTACH;FMTTYPE=image/jpeg:https://zwettl.spooe.at/wp-content/uploads/sites/166/2025/04/20250425-Martin-Winkler.jpeg
END:VEVENT
BEGIN:VEVENT
DTSTART;TZID=Europe/Vienna:20250822T200000
DTEND;TZID=Europe/Vienna:20250822T223000
DTSTAMP:20260425T160616
CREATED:20250726T084539Z
LAST-MODIFIED:20250804T150738Z
UID:4841-1755892800-1755901800@zwettl.spooe.at
SUMMARY:Sommerkino unter Sternen
DESCRIPTION:Wir zeigen das bewegende Drama „Die Herrlichkeit des Lebens“ – die berührende Liebesgeschichte von Franz Kafka und Dora Diamant. Ein Film über das Leben\, die Liebe und das Loslassen.\nGenießt einen besonderen Kinoabend im Freien – unter Sternenhimmel und mit großer Leinwand!Klappstühle sind vorhanden – bitte Decken mitnehmen\, falls es frisch wird.\nFilmstart bei Einbruch der DunkelheitFür Pocorn & Getränke ist gesorgt\nKommt vorbei und erlebt mit uns einen unvergesslichen Sommerabend vor der Dorfhalle Sonnberg\nEintritt frei!
URL:https://zwettl.spooe.at/termin/sommerkino-unter-sternen/
LOCATION:Dorfhalle Sonnberg\, Sonnberg 95\, Sonnberg\, 4202
ATTACH;FMTTYPE=image/jpeg:https://zwettl.spooe.at/wp-content/uploads/sites/166/2025/07/Sommerkino.jpg
END:VEVENT
END:VCALENDAR