BEGIN:VCALENDAR
VERSION:2.0
PRODID:-//SPÖ Zwettl an der Rodl - ECPv6.15.20//NONSGML v1.0//EN
CALSCALE:GREGORIAN
METHOD:PUBLISH
X-ORIGINAL-URL:https://zwettl.spooe.at
X-WR-CALDESC:Veranstaltungen für SPÖ Zwettl an der Rodl
REFRESH-INTERVAL;VALUE=DURATION:PT1H
X-Robots-Tag:noindex
X-PUBLISHED-TTL:PT1H
BEGIN:VTIMEZONE
TZID:Europe/Vienna
BEGIN:DAYLIGHT
TZOFFSETFROM:+0100
TZOFFSETTO:+0200
TZNAME:CEST
DTSTART:20240331T010000
END:DAYLIGHT
BEGIN:STANDARD
TZOFFSETFROM:+0200
TZOFFSETTO:+0100
TZNAME:CET
DTSTART:20241027T010000
END:STANDARD
BEGIN:DAYLIGHT
TZOFFSETFROM:+0100
TZOFFSETTO:+0200
TZNAME:CEST
DTSTART:20250330T010000
END:DAYLIGHT
BEGIN:STANDARD
TZOFFSETFROM:+0200
TZOFFSETTO:+0100
TZNAME:CET
DTSTART:20251026T010000
END:STANDARD
BEGIN:DAYLIGHT
TZOFFSETFROM:+0100
TZOFFSETTO:+0200
TZNAME:CEST
DTSTART:20260329T010000
END:DAYLIGHT
BEGIN:STANDARD
TZOFFSETFROM:+0200
TZOFFSETTO:+0100
TZNAME:CET
DTSTART:20261025T010000
END:STANDARD
END:VTIMEZONE
BEGIN:VEVENT
DTSTART;TZID=Europe/Vienna:20250602T170000
DTEND;TZID=Europe/Vienna:20250602T180000
DTSTAMP:20260425T232711
CREATED:20250220T125614Z
LAST-MODIFIED:20250220T125614Z
UID:4657-1748883600-1748887200@zwettl.spooe.at
SUMMARY:Spatenstichfeier Hochwasserschutz Distltal
DESCRIPTION:
URL:https://zwettl.spooe.at/termin/spatenstichfeier-hochwasserschutz-distltal/
ATTACH;FMTTYPE=image/jpeg:https://zwettl.spooe.at/wp-content/uploads/sites/166/2025/02/20250219-Hochwasserschutz.jpeg
END:VEVENT
BEGIN:VEVENT
DTSTART;TZID=Europe/Vienna:20250611T180000
DTEND;TZID=Europe/Vienna:20250611T190000
DTSTAMP:20260425T232711
CREATED:20250127T085715Z
LAST-MODIFIED:20250127T085715Z
UID:4643-1749664800-1749668400@zwettl.spooe.at
SUMMARY:Klar geht das - Reden wir darüber!
DESCRIPTION:Wir stehen Ihnen bei unseren Sprechstunden für ihre ganz persönlichen Anliegen zur Verfügung. Wir freuen uns auf Ihren persönlichen Besuch\, in der dieser Stunde sind wir auch telefonisch bzw. online für Ihre Anliegen erreichbar. \nUnsere Sprechstunden finden jeden zweiten Mittwoch im Monat stattfinden.
URL:https://zwettl.spooe.at/termin/klar-geht-das-reden-wir-darueber-21/
LOCATION:Marktgemeindeamt Zwettl\, Marktplatz\, Zwettl an der Rodl\, 4180\, Österreich
ATTACH;FMTTYPE=image/jpeg:https://zwettl.spooe.at/wp-content/uploads/sites/166/2022/10/Sprechstunde-scaled.jpeg
END:VEVENT
END:VCALENDAR