BEGIN:VCALENDAR
VERSION:2.0
PRODID:-//SPÖ Zwettl an der Rodl - ECPv6.15.20//NONSGML v1.0//EN
CALSCALE:GREGORIAN
METHOD:PUBLISH
X-WR-CALNAME:SPÖ Zwettl an der Rodl
X-ORIGINAL-URL:https://zwettl.spooe.at
X-WR-CALDESC:Veranstaltungen für SPÖ Zwettl an der Rodl
REFRESH-INTERVAL;VALUE=DURATION:PT1H
X-Robots-Tag:noindex
X-PUBLISHED-TTL:PT1H
BEGIN:VTIMEZONE
TZID:Europe/Vienna
BEGIN:DAYLIGHT
TZOFFSETFROM:+0100
TZOFFSETTO:+0200
TZNAME:CEST
DTSTART:20240331T010000
END:DAYLIGHT
BEGIN:STANDARD
TZOFFSETFROM:+0200
TZOFFSETTO:+0100
TZNAME:CET
DTSTART:20241027T010000
END:STANDARD
BEGIN:DAYLIGHT
TZOFFSETFROM:+0100
TZOFFSETTO:+0200
TZNAME:CEST
DTSTART:20250330T010000
END:DAYLIGHT
BEGIN:STANDARD
TZOFFSETFROM:+0200
TZOFFSETTO:+0100
TZNAME:CET
DTSTART:20251026T010000
END:STANDARD
BEGIN:DAYLIGHT
TZOFFSETFROM:+0100
TZOFFSETTO:+0200
TZNAME:CEST
DTSTART:20260329T010000
END:DAYLIGHT
BEGIN:STANDARD
TZOFFSETFROM:+0200
TZOFFSETTO:+0100
TZNAME:CET
DTSTART:20261025T010000
END:STANDARD
END:VTIMEZONE
BEGIN:VEVENT
DTSTART;TZID=Europe/Vienna:20250306T140000
DTEND;TZID=Europe/Vienna:20250306T180000
DTSTAMP:20260426T040901
CREATED:20250127T115202Z
LAST-MODIFIED:20250127T115659Z
UID:4645-1741269600-1741284000@zwettl.spooe.at
SUMMARY:Kino zum Int. Frauentag: Die Berufung
DESCRIPTION:Anläßlich des internationalen Frauentages laden die SPÖ Frauen sowie die Bezirksorganisation des Pensionistenverbandes in den Kinotreff Bad Leonfelden recht herzlich ein. \nDie Berufung\nDer Kampf einer amerikanischen Anwältin für Gerechtigkeit \nDie junge Juristin Ruth Bader Ginsbrug bringt einen Fall von Geschlechterdiskriminerung vor dem Obersten Gerichtshof in den USA. Im Kampf für die Gleichberechtigung zwischen Mann und Frau muss sie gegen die Vorurteile der Institionen kämpfen. Als sie den Fall zusammen mit ihrem Ehemann Martin annimmt\, wird ihr schnell bewusst\, dass sich ihre Karriere für immer verändern könnte. Vor Gericht stellt die Anwältin Scharfsinn und Geisteswitz unter Beweis. \nEintritt: 9 Euro \nWir treffen und vorher um 14 Uhr im Haus am Ring direkt neben dem Kino zu Kaffee und Kuchen. \nAnmeldung bis Donnerstag\, 27. Februar 2025 bei Johanna Krall 0677 61294344 \n  \nWir freuen uns auf viele Besucherinnen und Besucher \n 
URL:https://zwettl.spooe.at/termin/kino-zum-int-frauentag-die-berufung/
LOCATION:Kinotreff Bad Leonfelden\, Ringstrasse 75\, Bad Leonfelden\, 4190\, Österreich
END:VEVENT
END:VCALENDAR