BEGIN:VCALENDAR
VERSION:2.0
PRODID:-//SPÖ Zwettl an der Rodl - ECPv6.15.20//NONSGML v1.0//EN
CALSCALE:GREGORIAN
METHOD:PUBLISH
X-WR-CALNAME:SPÖ Zwettl an der Rodl
X-ORIGINAL-URL:https://zwettl.spooe.at
X-WR-CALDESC:Veranstaltungen für SPÖ Zwettl an der Rodl
REFRESH-INTERVAL;VALUE=DURATION:PT1H
X-Robots-Tag:noindex
X-PUBLISHED-TTL:PT1H
BEGIN:VTIMEZONE
TZID:Europe/Vienna
BEGIN:DAYLIGHT
TZOFFSETFROM:+0100
TZOFFSETTO:+0200
TZNAME:CEST
DTSTART:20250330T010000
END:DAYLIGHT
BEGIN:STANDARD
TZOFFSETFROM:+0200
TZOFFSETTO:+0100
TZNAME:CET
DTSTART:20251026T010000
END:STANDARD
BEGIN:DAYLIGHT
TZOFFSETFROM:+0100
TZOFFSETTO:+0200
TZNAME:CEST
DTSTART:20260329T010000
END:DAYLIGHT
BEGIN:STANDARD
TZOFFSETFROM:+0200
TZOFFSETTO:+0100
TZNAME:CET
DTSTART:20261025T010000
END:STANDARD
BEGIN:DAYLIGHT
TZOFFSETFROM:+0100
TZOFFSETTO:+0200
TZNAME:CEST
DTSTART:20270328T010000
END:DAYLIGHT
BEGIN:STANDARD
TZOFFSETFROM:+0200
TZOFFSETTO:+0100
TZNAME:CET
DTSTART:20271031T010000
END:STANDARD
END:VTIMEZONE
BEGIN:VEVENT
DTSTART;TZID=Europe/Vienna:20260427T200000
DTEND;TZID=Europe/Vienna:20260427T200000
DTSTAMP:20260421T202906
CREATED:20251229T063023Z
LAST-MODIFIED:20251229T070628Z
UID:2902-1777320000-1777320000@zwettl.spooe.at
SUMMARY:Gemeinderatssitzung
DESCRIPTION:29
URL:https://zwettl.spooe.at/termin/gemeinderatssitzung-9/
LOCATION:Marktgemeindeamt Zwettl\, Marktplatz\, Zwettl an der Rodl\, 4180\, Österreich
ATTACH;FMTTYPE=image/jpeg:https://zwettl.spooe.at/wp-content/uploads/sites/166/2020/11/Zwettl_an_der_Rodl-6.jpg
END:VEVENT
BEGIN:VEVENT
DTSTART;TZID=Europe/Vienna:20260513T180000
DTEND;TZID=Europe/Vienna:20260513T190000
DTSTAMP:20260421T202906
CREATED:20221213T072005Z
LAST-MODIFIED:20251229T072558Z
UID:3938-1778695200-1778698800@zwettl.spooe.at
SUMMARY:Klar geht das – Reden wir darüber!
DESCRIPTION:Wir stehen Ihnen bei unseren Sprechstunden für ihre ganz persönlichen Anliegen zur Verfügung. Wir freuen uns auf Ihren persönlichen Besuch\, in der dieser Stunde sind wir auch telefonisch bzw. online für Ihre Anliegen erreichbar. \nUnsere Sprechstunden finden jeden zweiten Mittwoch im Monat stattfinden.
URL:https://zwettl.spooe.at/termin/klar-geht-das-reden-wir-darueber-8/
LOCATION:Marktgemeindeamt Zwettl\, Marktplatz\, Zwettl an der Rodl\, 4180\, Österreich
ATTACH;FMTTYPE=image/jpeg:https://zwettl.spooe.at/wp-content/uploads/sites/166/2022/10/Sprechstunde-scaled.jpeg
END:VEVENT
BEGIN:VEVENT
DTSTART;TZID=Europe/Vienna:20260610T180000
DTEND;TZID=Europe/Vienna:20260610T190000
DTSTAMP:20260421T202906
CREATED:20221213T072054Z
LAST-MODIFIED:20251229T072631Z
UID:3940-1781114400-1781118000@zwettl.spooe.at
SUMMARY:Klar geht das – Reden wir darüber!
DESCRIPTION:Wir stehen Ihnen bei unseren Sprechstunden für ihre ganz persönlichen Anliegen zur Verfügung. Wir freuen uns auf Ihren persönlichen Besuch\, in der dieser Stunde sind wir auch telefonisch bzw. online für Ihre Anliegen erreichbar. \nUnsere Sprechstunden finden jeden zweiten Mittwoch im Monat stattfinden.
URL:https://zwettl.spooe.at/termin/klar-geht-das-reden-wir-darueber-9/
LOCATION:Marktgemeindeamt Zwettl\, Marktplatz\, Zwettl an der Rodl\, 4180\, Österreich
ATTACH;FMTTYPE=image/jpeg:https://zwettl.spooe.at/wp-content/uploads/sites/166/2022/10/Sprechstunde-scaled.jpeg
END:VEVENT
BEGIN:VEVENT
DTSTART;TZID=Europe/Vienna:20260622T200000
DTEND;TZID=Europe/Vienna:20260622T200000
DTSTAMP:20260421T202906
CREATED:20251229T063032Z
LAST-MODIFIED:20251229T070705Z
UID:2906-1782158400-1782158400@zwettl.spooe.at
SUMMARY:Gemeinderatssitzung
DESCRIPTION:
URL:https://zwettl.spooe.at/termin/gemeinderatssitzung-11/
LOCATION:Marktgemeindeamt Zwettl\, Marktplatz\, Zwettl an der Rodl\, 4180\, Österreich
ATTACH;FMTTYPE=image/jpeg:https://zwettl.spooe.at/wp-content/uploads/sites/166/2020/11/Zwettl_an_der_Rodl-6.jpg
END:VEVENT
BEGIN:VEVENT
DTSTART;TZID=Europe/Vienna:20260909T180000
DTEND;TZID=Europe/Vienna:20260909T190000
DTSTAMP:20260421T202906
CREATED:20221213T072239Z
LAST-MODIFIED:20251229T072725Z
UID:3942-1788976800-1788980400@zwettl.spooe.at
SUMMARY:Klar geht das – Reden wir darüber!
DESCRIPTION:Wir stehen Ihnen bei unseren Sprechstunden für ihre ganz persönlichen Anliegen zur Verfügung. Wir freuen uns auf Ihren persönlichen Besuch\, in der dieser Stunde sind wir auch telefonisch bzw. online für Ihre Anliegen erreichbar. \nUnsere Sprechstunden finden jeden zweiten Mittwoch im Monat stattfinden.
URL:https://zwettl.spooe.at/termin/klar-geht-das-reden-wir-darueber-10/
LOCATION:Marktgemeindeamt Zwettl\, Marktplatz\, Zwettl an der Rodl\, 4180\, Österreich
ATTACH;FMTTYPE=image/jpeg:https://zwettl.spooe.at/wp-content/uploads/sites/166/2022/10/Sprechstunde-scaled.jpeg
END:VEVENT
BEGIN:VEVENT
DTSTART;TZID=Europe/Vienna:20260914T200000
DTEND;TZID=Europe/Vienna:20260914T220000
DTSTAMP:20260421T202906
CREATED:20251229T063043Z
LAST-MODIFIED:20251229T070735Z
UID:2908-1789416000-1789423200@zwettl.spooe.at
SUMMARY:Gemeinderatssitzung
DESCRIPTION:
URL:https://zwettl.spooe.at/termin/gemeinderatssitzung-12/
LOCATION:Marktgemeindeamt Zwettl\, Marktplatz\, Zwettl an der Rodl\, 4180\, Österreich
ATTACH;FMTTYPE=image/jpeg:https://zwettl.spooe.at/wp-content/uploads/sites/166/2015/04/2015_Gemeindeamt.jpg
END:VEVENT
BEGIN:VEVENT
DTSTART;TZID=Europe/Vienna:20261014T180000
DTEND;TZID=Europe/Vienna:20261014T190000
DTSTAMP:20260421T202906
CREATED:20250106T102037Z
LAST-MODIFIED:20251229T072804Z
UID:4298-1792000800-1792004400@zwettl.spooe.at
SUMMARY:Klar geht das - Reden wir darüber!
DESCRIPTION:Wir stehen Ihnen bei unseren Sprechstunden für ihre ganz persönlichen Anliegen zur Verfügung. Wir freuen uns auf Ihren persönlichen Besuch\, in der dieser Stunde sind wir auch telefonisch bzw. online für Ihre Anliegen erreichbar. \nUnsere Sprechstunden finden jeden zweiten Mittwoch im Monat stattfinden.
URL:https://zwettl.spooe.at/termin/klar-geht-das-reden-wir-darueber-16/
LOCATION:Marktgemeindeamt Zwettl\, Marktplatz\, Zwettl an der Rodl\, 4180\, Österreich
ATTACH;FMTTYPE=image/jpeg:https://zwettl.spooe.at/wp-content/uploads/sites/166/2022/10/Sprechstunde-scaled.jpeg
END:VEVENT
BEGIN:VEVENT
DTSTART;TZID=Europe/Vienna:20261111T180000
DTEND;TZID=Europe/Vienna:20261111T190000
DTSTAMP:20260421T202906
CREATED:20250127T085200Z
LAST-MODIFIED:20251229T072828Z
UID:4636-1794420000-1794423600@zwettl.spooe.at
SUMMARY:Klar geht das - Reden wir darüber!
DESCRIPTION:Wir stehen Ihnen bei unseren Sprechstunden für ihre ganz persönlichen Anliegen zur Verfügung. Wir freuen uns auf Ihren persönlichen Besuch\, in der dieser Stunde sind wir auch telefonisch bzw. online für Ihre Anliegen erreichbar.\nUnsere Sprechstunden finden jeden zweiten Mittwoch im Monat stattfinden.
URL:https://zwettl.spooe.at/termin/klar-geht-das-reden-wir-darueber-18/
LOCATION:Marktgemeindeamt Zwettl\, Marktplatz\, Zwettl an der Rodl\, 4180\, Österreich
ATTACH;FMTTYPE=image/jpeg:https://zwettl.spooe.at/wp-content/uploads/sites/166/2022/10/Sprechstunde-scaled.jpeg
END:VEVENT
BEGIN:VEVENT
DTSTART;TZID=Europe/Vienna:20261130T180000
DTEND;TZID=Europe/Vienna:20261130T200000
DTSTAMP:20260421T202906
CREATED:20251229T062027Z
LAST-MODIFIED:20251229T070809Z
UID:3749-1796061600-1796068800@zwettl.spooe.at
SUMMARY:Gemeinderatssitzung
DESCRIPTION:
URL:https://zwettl.spooe.at/termin/gemeinderatssitzung-13/
LOCATION:Marktgemeindeamt Zwettl\, Marktplatz\, Zwettl an der Rodl\, 4180\, Österreich
ATTACH;FMTTYPE=image/jpeg:https://zwettl.spooe.at/wp-content/uploads/sites/166/2020/11/Zwettl_an_der_Rodl-6.jpg
END:VEVENT
BEGIN:VEVENT
DTSTART;TZID=Europe/Vienna:20261205T170000
DTEND;TZID=Europe/Vienna:20261205T180000
DTSTAMP:20260421T202906
CREATED:20251229T060624Z
LAST-MODIFIED:20251229T071214Z
UID:4542-1796490000-1796493600@zwettl.spooe.at
SUMMARY:Der Nikolaus kommt!
DESCRIPTION:Wir treffen uns um 17:00 Uhr vor dem Bienenmuseum\, es gibt für jedes Kind ein Nikolaussackerl. Wie jedes Jahr gibt’s für alle Kinder zuerst eine Geschichte und dann ein Nikolo-Sackerl.\nNatürlich gibt es Punsch sowohl für die Großen als auch die Kleinen auch heuer wieder bei stimmungsvollen Lagerfeuer im Fackelschein vor dem Bienenmuseum!Kommen sie doch auf einen wärmenden Punsch vorbei!
URL:https://zwettl.spooe.at/termin/der-nikolaus-kommt-3/
LOCATION:Bienenmuseum\, Obermühlweg 2\, Zwettl an der Rodl\, 4180\, Österreich
ATTACH;FMTTYPE=image/jpeg:https://zwettl.spooe.at/wp-content/uploads/sites/166/2023/11/Nikolaus.jpg
END:VEVENT
BEGIN:VEVENT
DTSTART;TZID=Europe/Vienna:20261209T180000
DTEND;TZID=Europe/Vienna:20261209T190000
DTSTAMP:20260421T202906
CREATED:20250127T085345Z
LAST-MODIFIED:20251229T072853Z
UID:4638-1796839200-1796842800@zwettl.spooe.at
SUMMARY:Klar geht das - Reden wir darüber!
DESCRIPTION:Wir stehen Ihnen bei unseren Sprechstunden für ihre ganz persönlichen Anliegen zur Verfügung. Wir freuen uns auf Ihren persönlichen Besuch\, in der dieser Stunde sind wir auch telefonisch bzw. online für Ihre Anliegen erreichbar.\nUnsere Sprechstunden finden jeden zweiten Mittwoch im Monat stattfinden.
URL:https://zwettl.spooe.at/termin/klar-geht-das-reden-wir-darueber-19/
LOCATION:Marktgemeindeamt Zwettl\, Marktplatz\, Zwettl an der Rodl\, 4180\, Österreich
ATTACH;FMTTYPE=image/jpeg:https://zwettl.spooe.at/wp-content/uploads/sites/166/2022/10/Sprechstunde-scaled.jpeg
END:VEVENT
END:VCALENDAR