BEGIN:VCALENDAR
VERSION:2.0
PRODID:-//SPÖ Zwettl an der Rodl - ECPv6.15.20//NONSGML v1.0//EN
CALSCALE:GREGORIAN
METHOD:PUBLISH
X-ORIGINAL-URL:https://zwettl.spooe.at
X-WR-CALDESC:Veranstaltungen für SPÖ Zwettl an der Rodl
REFRESH-INTERVAL;VALUE=DURATION:PT1H
X-Robots-Tag:noindex
X-PUBLISHED-TTL:PT1H
BEGIN:VTIMEZONE
TZID:Europe/Vienna
BEGIN:DAYLIGHT
TZOFFSETFROM:+0100
TZOFFSETTO:+0200
TZNAME:CEST
DTSTART:20250330T010000
END:DAYLIGHT
BEGIN:STANDARD
TZOFFSETFROM:+0200
TZOFFSETTO:+0100
TZNAME:CET
DTSTART:20251026T010000
END:STANDARD
BEGIN:DAYLIGHT
TZOFFSETFROM:+0100
TZOFFSETTO:+0200
TZNAME:CEST
DTSTART:20260329T010000
END:DAYLIGHT
BEGIN:STANDARD
TZOFFSETFROM:+0200
TZOFFSETTO:+0100
TZNAME:CET
DTSTART:20261025T010000
END:STANDARD
BEGIN:DAYLIGHT
TZOFFSETFROM:+0100
TZOFFSETTO:+0200
TZNAME:CEST
DTSTART:20270328T010000
END:DAYLIGHT
BEGIN:STANDARD
TZOFFSETFROM:+0200
TZOFFSETTO:+0100
TZNAME:CET
DTSTART:20271031T010000
END:STANDARD
END:VTIMEZONE
BEGIN:VEVENT
DTSTART;TZID=Europe/Vienna:20260213T150000
DTEND;TZID=Europe/Vienna:20260213T180000
DTSTAMP:20260422T120300
CREATED:20241210T060030Z
LAST-MODIFIED:20251023T122119Z
UID:4258-1770994800-1771005600@zwettl.spooe.at
SUMMARY:Kinderfasching
DESCRIPTION:Die Faschingsanimation der Kinderfreunde Mühlviertel kommt nach Zwettl\, um Kindern nicht nur Spaß und Freude zu bringen\, sondern auch wichtige Werte wie Solidarität\, Gemeinschaft und ein gewaltfreies friedliches Miteinander zu vermitteln. Ziel der Faschingsanimation ist es\, Kindern zu vermitteln\, dass das gemeinsame Spiel in der Gruppe am meisten Spaß und Freude macht. \n\n\nDazu braucht man aber meist zwei Hände und deshalb werden Spielzeugwaffen gleich zu Beginn eingesammelt. \n„Gewaltspielzeug passt ganz und gar nicht zu unseren Werten und so versuchen wir auch in unserer Faschingsanimation den Kindern zu vermitteln\, dass es schlichtweg mehr Spaß macht\, gemeinsam zu Spielen und Freude zu schaffen“\, so Vorsitzende der SPÖ Zwettl Ing. Herbert Enzenhofer. \nEin weiterer Aspekt\, der in der Faschingsveranstaltung vorhanden ist\, ist das generationenübergreifende Spiel. Eltern werden in das Programm mit einbezogen und tanzen\, singen\, spielen gemeinsam mit den Kindern. \nEin Slogan der Kinderfreunde lautet: „Ich mag das Kind in mir!“ Dieses Kind in den Eltern soll durch geschickte Animation gezielt geweckt werden und den Spaß am Spielen mit den eigenen Kindern erleben lassen. \n„Für Kinder gibt es nichts schöneres\, als wenn Eltern sich Zeit nehmen können und gemeinsam mit den Kindern spielen. Das stärkt auch das Vertrauen des Kindes und die Eltern-Kind Bindung“\, erklärt Enzenhofer.
URL:https://zwettl.spooe.at/termin/knderfasching/
LOCATION:Pfarrheim Zwettl an der Rodl\, Marktplatz 2\, Zwettl an der Rodl\, 4180\, Österreich
ATTACH;FMTTYPE=image/jpeg:https://zwettl.spooe.at/wp-content/uploads/sites/166/2015/04/20150124_Kinderfasching.jpg
END:VEVENT
END:VCALENDAR